BEGIN:VCALENDAR
VERSION:2.0
PRODID:-//Rotary Club of Three Village - ECPv6.15.11//NONSGML v1.0//EN
CALSCALE:GREGORIAN
METHOD:PUBLISH
X-ORIGINAL-URL:https://threevillagerotary.com
X-WR-CALDESC:Events for Rotary Club of Three Village
REFRESH-INTERVAL;VALUE=DURATION:PT1H
X-Robots-Tag:noindex
X-PUBLISHED-TTL:PT1H
BEGIN:VTIMEZONE
TZID:UTC
BEGIN:STANDARD
TZOFFSETFROM:+0000
TZOFFSETTO:+0000
TZNAME:UTC
DTSTART:20250101T000000
END:STANDARD
END:VTIMEZONE
BEGIN:VEVENT
DTSTART;TZID=UTC:20260409T110000
DTEND;TZID=UTC:20260409T131500
DTSTAMP:20260421T100354
CREATED:20250611T124543Z
LAST-MODIFIED:20260211T203906Z
UID:91-1775732400-1775740500@threevillagerotary.com
SUMMARY:Board at 11 AM / General Meeting at 12:15 PM
DESCRIPTION:April 9\, 2026 – Board at 11 AM / General Meeting at 12:15 PM \nThe Bench Bar & Grill\n1095 NY-25A\nStony Brook\, NY 11790
URL:https://threevillagerotary.com/event/board-at-11-am-general-at-1215-pm-11/
END:VEVENT
BEGIN:VEVENT
DTSTART;TZID=UTC:20260416T161500
DTEND;TZID=UTC:20260416T171500
DTSTAMP:20260421T100354
CREATED:20251029T234804Z
LAST-MODIFIED:20260226T205253Z
UID:377-1776356100-1776359700@threevillagerotary.com
SUMMARY:General Meeting at 12:15 PM - 1:15 PM
DESCRIPTION:April 16\, 2026 – General Meeting at 12:15 PM – 1:15 PM \nThe Bench Bar & Grill\n1095 NY-25A\nStony Brook\, NY 11790
URL:https://threevillagerotary.com/event/general-meeting-at-1215-pm-5/
END:VEVENT
BEGIN:VEVENT
DTSTART;TZID=UTC:20260507T110000
DTEND;TZID=UTC:20260507T131500
DTSTAMP:20260421T100354
CREATED:20250611T124556Z
LAST-MODIFIED:20250728T182429Z
UID:93-1778151600-1778159700@threevillagerotary.com
SUMMARY:Board at 11 AM / General Meeting at 12:15 PM
DESCRIPTION:May 7\, 2026 – Board at 11 AM / General Meeting at 12:15 PM \nThe Bench Bar & Grill\n1095 NY-25A\nStony Brook\, NY 11790
URL:https://threevillagerotary.com/event/board-at-11-am-general-at-1215-pm-12/
END:VEVENT
BEGIN:VEVENT
DTSTART;TZID=UTC:20260516T110000
DTEND;TZID=UTC:20260516T110000
DTSTAMP:20260421T100354
CREATED:20250911T173627Z
LAST-MODIFIED:20251030T001610Z
UID:326-1778929200-1778929200@threevillagerotary.com
SUMMARY:Day Of Service
DESCRIPTION:Day Of Service\nLOCATION: Three Village Rotary Memorial Garden at Sand Street Beach in Stony Brook\nTIME: 11 AM – 1 PM
URL:https://threevillagerotary.com/event/day-of-service/
END:VEVENT
BEGIN:VEVENT
DTSTART;TZID=UTC:20260521T160000
DTEND;TZID=UTC:20260521T180000
DTSTAMP:20260421T100354
CREATED:20250611T124557Z
LAST-MODIFIED:20250911T225715Z
UID:94-1779379200-1779386400@threevillagerotary.com
SUMMARY:Social Meeting at 4 PM
DESCRIPTION:May 21\, 2026 – Social Meeting at 4 PM
URL:https://threevillagerotary.com/event/social-meeting-at-4-pm-6/
LOCATION:Three Village Rotary\, Contact Us For Meeting Location & More Information
END:VEVENT
BEGIN:VEVENT
DTSTART;TZID=UTC:20260530T090000
DTEND;TZID=UTC:20260530T150000
DTSTAMP:20260421T100354
CREATED:20260420T214801Z
LAST-MODIFIED:20260420T214801Z
UID:460-1780131600-1780153200@threevillagerotary.com
SUMMARY:Three Village INTERACT Blood Drive
DESCRIPTION:Hosted at Laurel Hill School in East Setauket.
URL:https://threevillagerotary.com/event/three-village-interact-blood-drive/
END:VEVENT
BEGIN:VEVENT
DTSTART;TZID=UTC:20260604T110000
DTEND;TZID=UTC:20260604T131500
DTSTAMP:20260421T100354
CREATED:20250611T124611Z
LAST-MODIFIED:20250728T183341Z
UID:95-1780570800-1780578900@threevillagerotary.com
SUMMARY:Board at 11 AM / General Meeting at 12:15 PM
DESCRIPTION:June 4\, 2026 – Board at 11 AM / General at 12:15 PM \nThe Bench Bar & Grill1095 NY-25AStony Brook\, NY 11790
URL:https://threevillagerotary.com/event/board-at-11-am-general-at-1215-pm-13/
END:VEVENT
BEGIN:VEVENT
DTSTART;TZID=UTC:20260618T121500
DTEND;TZID=UTC:20260618T131500
DTSTAMP:20260421T100354
CREATED:20250611T124611Z
LAST-MODIFIED:20250728T183315Z
UID:96-1781784900-1781788500@threevillagerotary.com
SUMMARY:General Meeting at 12:15 PM
DESCRIPTION:June 18\, 2026 – General Meeting at 12:15 PM \nThe Bench Bar & Grill\n1095 NY-25A\nStony Brook\, NY 11790
URL:https://threevillagerotary.com/event/general-at-1215-pm-2/
END:VEVENT
BEGIN:VEVENT
DTSTART;TZID=UTC:20260624T190000
DTEND;TZID=UTC:20260624T203000
DTSTAMP:20260421T100354
CREATED:20260420T214918Z
LAST-MODIFIED:20260420T214918Z
UID:462-1782327600-1782333000@threevillagerotary.com
SUMMARY:Free Concert featuring One Step Ahead
DESCRIPTION:Located at Long Island Museum in Stony Brook.
URL:https://threevillagerotary.com/event/free-concert-featuring-one-step-ahead/
END:VEVENT
BEGIN:VEVENT
DTSTART;TZID=UTC:20260722T183000
DTEND;TZID=UTC:20260722T203000
DTSTAMP:20260421T100354
CREATED:20260420T215116Z
LAST-MODIFIED:20260420T215116Z
UID:464-1784745000-1784752200@threevillagerotary.com
SUMMARY:Free Concert featuring Slingshot
DESCRIPTION:Hosted at Long Island Museum in Stony Brook
URL:https://threevillagerotary.com/event/free-concert-featuring-slingshot/
END:VEVENT
END:VCALENDAR